BEGIN:VCALENDAR
VERSION:2.0
PRODID:-//Village of Marathon City - ECPv6.15.20//NONSGML v1.0//EN
CALSCALE:GREGORIAN
METHOD:PUBLISH
X-WR-CALNAME:Village of Marathon City
X-ORIGINAL-URL:https://www.marathoncitywi.gov
X-WR-CALDESC:Events for Village of Marathon City
REFRESH-INTERVAL;VALUE=DURATION:PT1H
X-Robots-Tag:noindex
X-PUBLISHED-TTL:PT1H
BEGIN:VTIMEZONE
TZID:America/Chicago
BEGIN:DAYLIGHT
TZOFFSETFROM:-0600
TZOFFSETTO:-0500
TZNAME:CDT
DTSTART:20250309T080000
END:DAYLIGHT
BEGIN:STANDARD
TZOFFSETFROM:-0500
TZOFFSETTO:-0600
TZNAME:CST
DTSTART:20251102T070000
END:STANDARD
BEGIN:DAYLIGHT
TZOFFSETFROM:-0600
TZOFFSETTO:-0500
TZNAME:CDT
DTSTART:20260308T080000
END:DAYLIGHT
BEGIN:STANDARD
TZOFFSETFROM:-0500
TZOFFSETTO:-0600
TZNAME:CST
DTSTART:20261101T070000
END:STANDARD
BEGIN:DAYLIGHT
TZOFFSETFROM:-0600
TZOFFSETTO:-0500
TZNAME:CDT
DTSTART:20270314T080000
END:DAYLIGHT
BEGIN:STANDARD
TZOFFSETFROM:-0500
TZOFFSETTO:-0600
TZNAME:CST
DTSTART:20271107T070000
END:STANDARD
END:VTIMEZONE
BEGIN:VEVENT
DTSTART;TZID=America/Chicago:20260428T160000
DTEND;TZID=America/Chicago:20260428T180000
DTSTAMP:20260422T071822
CREATED:20260227T165852Z
LAST-MODIFIED:20260227T165852Z
UID:29210-1777392000-1777399200@www.marathoncitywi.gov
SUMMARY:Plan Commission Meeting
DESCRIPTION:The Village of Marathon City Plan Commission will hold a meeting to begin the process to renew the Village Comprehensive Plan. \nResidents of the Village of Marathon City are encouraged to attend. The meeting room is handicapped\nAccessible and will be open for less than 10 individuals. Persons needing additional accommodations\nshould contact Steven Cherek\, Village Administrator/Treasurer\, 311 Walnut Street Marathon City\, WI\n54448: Phone 715-443-2221 \nLink to Agenda coming soon. \nVirtually attend meeting via Microsoft Teams \nJoin Teams Meeting:  https://www.microsoft.com/en-us/microsoft-teams/join-a-meeting \n \nMeeting ID: 248 450 201 661 51 \nPasscode: 6kG6ck3E
URL:https://www.marathoncitywi.gov/event/plan-commission-meeting/
LOCATION:Village Hall\, 311 Walnut Street\, Marathon City\, WI\, 54448\, United States
CATEGORIES:Meetings
ATTACH;FMTTYPE=image/png:https://www.marathoncitywi.gov/wp-content/uploads/2026/02/PLAN-COMMISSION-CLIPART.png
END:VEVENT
END:VCALENDAR