BEGIN:VCALENDAR
VERSION:2.0
PRODID:-//Village of Marathon City - ECPv6.15.20//NONSGML v1.0//EN
CALSCALE:GREGORIAN
METHOD:PUBLISH
X-WR-CALNAME:Village of Marathon City
X-ORIGINAL-URL:https://www.marathoncitywi.gov
X-WR-CALDESC:Events for Village of Marathon City
REFRESH-INTERVAL;VALUE=DURATION:PT1H
X-Robots-Tag:noindex
X-PUBLISHED-TTL:PT1H
BEGIN:VTIMEZONE
TZID:America/Chicago
BEGIN:DAYLIGHT
TZOFFSETFROM:-0600
TZOFFSETTO:-0500
TZNAME:CDT
DTSTART:20240310T080000
END:DAYLIGHT
BEGIN:STANDARD
TZOFFSETFROM:-0500
TZOFFSETTO:-0600
TZNAME:CST
DTSTART:20241103T070000
END:STANDARD
BEGIN:DAYLIGHT
TZOFFSETFROM:-0600
TZOFFSETTO:-0500
TZNAME:CDT
DTSTART:20250309T080000
END:DAYLIGHT
BEGIN:STANDARD
TZOFFSETFROM:-0500
TZOFFSETTO:-0600
TZNAME:CST
DTSTART:20251102T070000
END:STANDARD
BEGIN:DAYLIGHT
TZOFFSETFROM:-0600
TZOFFSETTO:-0500
TZNAME:CDT
DTSTART:20260308T080000
END:DAYLIGHT
BEGIN:STANDARD
TZOFFSETFROM:-0500
TZOFFSETTO:-0600
TZNAME:CST
DTSTART:20261101T070000
END:STANDARD
END:VTIMEZONE
BEGIN:VTIMEZONE
TZID:America/Los_Angeles
BEGIN:DAYLIGHT
TZOFFSETFROM:-0800
TZOFFSETTO:-0700
TZNAME:PDT
DTSTART:20230312T100000
END:DAYLIGHT
BEGIN:STANDARD
TZOFFSETFROM:-0700
TZOFFSETTO:-0800
TZNAME:PST
DTSTART:20231105T090000
END:STANDARD
BEGIN:DAYLIGHT
TZOFFSETFROM:-0800
TZOFFSETTO:-0700
TZNAME:PDT
DTSTART:20240310T100000
END:DAYLIGHT
BEGIN:STANDARD
TZOFFSETFROM:-0700
TZOFFSETTO:-0800
TZNAME:PST
DTSTART:20241103T090000
END:STANDARD
BEGIN:DAYLIGHT
TZOFFSETFROM:-0800
TZOFFSETTO:-0700
TZNAME:PDT
DTSTART:20250309T100000
END:DAYLIGHT
BEGIN:STANDARD
TZOFFSETFROM:-0700
TZOFFSETTO:-0800
TZNAME:PST
DTSTART:20251102T090000
END:STANDARD
BEGIN:DAYLIGHT
TZOFFSETFROM:-0800
TZOFFSETTO:-0700
TZNAME:PDT
DTSTART:20260308T100000
END:DAYLIGHT
BEGIN:STANDARD
TZOFFSETFROM:-0700
TZOFFSETTO:-0800
TZNAME:PST
DTSTART:20261101T090000
END:STANDARD
END:VTIMEZONE
BEGIN:VEVENT
DTSTART;TZID=America/Chicago:20250723T170000
DTEND;TZID=America/Chicago:20250723T180000
DTSTAMP:20260422T105337
CREATED:20250725T200956Z
LAST-MODIFIED:20250725T200956Z
UID:10001257-1753290000-1753293600@www.marathoncitywi.gov
SUMMARY:Public Hearing / Plan Commission Meeting
DESCRIPTION:The Village of Marathon City Plan Commission will conduct a public hearing regarding a Rezoning. \nResidents of the Village of Marathon City are encouraged to attend. The meeting room is handicapped\nAccessible and will be open for less than 10 individuals. Persons needing additional accommodations\nshould contact Steven Cherek\, Village Administrator/Treasurer\, 311 Walnut Street Marathon City\, WI\n54448: Phone 715-443-2221 \nLink to Agendas \nVirtually attend meeting via Microsoft Teams \nJoin Teams Meeting:  https://www.microsoft.com/en-us/microsoft-teams/join-a-meeting \n \nMeeting ID: 268 434 593 592 5 \nPasscode: zi2pL9QA
URL:https://www.marathoncitywi.gov/event/public-hearing-plan-commission-meeting-3/
LOCATION:Village Hall\, 311 Walnut Street\, Marathon City\, WI\, 54448\, United States
CATEGORIES:Events,Meetings
ATTACH;FMTTYPE=image/jpeg:https://www.marathoncitywi.gov/wp-content/uploads/2025/02/Plan-Commission-Meeting-Clipart.jpg
END:VEVENT
BEGIN:VEVENT
DTSTART;TZID=America/Los_Angeles:20250702T180000
DTEND;TZID=America/Los_Angeles:20250702T200000
DTSTAMP:20260422T105337
CREATED:20241028T171439Z
LAST-MODIFIED:20250408T143537Z
UID:10000401-1751479200-1751486400@www.marathoncitywi.gov
SUMMARY:Village Board Meeting
DESCRIPTION:Virtually attend meeting via Microsoft Teams \nJoin Teams Meeting:  https://www.microsoft.com/en-us/microsoft-teams/join-a-meeting \n \nMeeting ID: 229 434 982 56 \nPasscode: 832Rn6k4
URL:https://www.marathoncitywi.gov/event/village-board-meeting/2025-07-02/
LOCATION:Village Hall\, 311 Walnut Street\, Marathon City\, WI\, 54448\, United States
CATEGORIES:Meetings
ATTACH;FMTTYPE=image/png:https://www.marathoncitywi.gov/wp-content/uploads/2025/04/VILLAGE-BOARD-MEETING.png
END:VEVENT
BEGIN:VEVENT
DTSTART;TZID=America/Los_Angeles:20250618T160000
DTEND;TZID=America/Los_Angeles:20250618T173000
DTSTAMP:20260422T105337
CREATED:20250616T134938Z
LAST-MODIFIED:20250616T134939Z
UID:10001252-1750262400-1750267800@www.marathoncitywi.gov
SUMMARY:Utility Commission Meeting
DESCRIPTION:Virtually attend meeting via Microsoft Teams \nLink to Agenda \nJoin Teams Meeting:  https://www.microsoft.com/en-us/microsoft-teams/join-a-meeting \n \nMeeting ID: 261 174 214 35 \nPasscode: cY2jA33d
URL:https://www.marathoncitywi.gov/event/utility-commission-meeting-5/
LOCATION:Village Hall\, 311 Walnut Street\, Marathon City\, WI\, 54448\, United States
CATEGORIES:Meetings
ATTACH;FMTTYPE=image/png:https://www.marathoncitywi.gov/wp-content/uploads/2025/04/UTILITY-COMMISSION-MEETING.png
END:VEVENT
BEGIN:VEVENT
DTSTART;TZID=America/Los_Angeles:20250604T180000
DTEND;TZID=America/Los_Angeles:20250604T200000
DTSTAMP:20260422T105337
CREATED:20250602T170930Z
LAST-MODIFIED:20250603T153659Z
UID:10000400-1749060000-1749067200@www.marathoncitywi.gov
SUMMARY:Village Board Meeting
DESCRIPTION:Virtually attend meeting via Microsoft Teams \nLink to Agenda \nJoin Teams Meeting:  https://www.microsoft.com/en-us/microsoft-teams/join-a-meeting \n \nMeeting ID: 229 434 982 56 \nPasscode: 832Rn6k4
URL:https://www.marathoncitywi.gov/event/village-board-meeting-4/
LOCATION:Village Hall\, 311 Walnut Street\, Marathon City\, WI\, 54448\, United States
CATEGORIES:Meetings
ATTACH;FMTTYPE=image/png:https://www.marathoncitywi.gov/wp-content/uploads/2025/04/VILLAGE-BOARD-MEETING.png
END:VEVENT
BEGIN:VEVENT
DTSTART;TZID=America/Los_Angeles:20250604T180000
DTEND;TZID=America/Los_Angeles:20250604T200000
DTSTAMP:20260422T105337
CREATED:20241028T171439Z
LAST-MODIFIED:20250408T143537Z
UID:10001259-1749060000-1749067200@www.marathoncitywi.gov
SUMMARY:Village Board Meeting
DESCRIPTION:Virtually attend meeting via Microsoft Teams \nJoin Teams Meeting:  https://www.microsoft.com/en-us/microsoft-teams/join-a-meeting \n \nMeeting ID: 229 434 982 56 \nPasscode: 832Rn6k4
URL:https://www.marathoncitywi.gov/event/village-board-meeting/2025-06-04/
LOCATION:Village Hall\, 311 Walnut Street\, Marathon City\, WI\, 54448\, United States
CATEGORIES:Meetings
ATTACH;FMTTYPE=image/png:https://www.marathoncitywi.gov/wp-content/uploads/2025/04/VILLAGE-BOARD-MEETING.png
END:VEVENT
BEGIN:VEVENT
DTSTART;TZID=America/Los_Angeles:20250528T160000
DTEND;TZID=America/Los_Angeles:20250528T173000
DTSTAMP:20260422T105337
CREATED:20250523T135134Z
LAST-MODIFIED:20250523T135136Z
UID:10000459-1748448000-1748453400@www.marathoncitywi.gov
SUMMARY:Utility Commission Meeting
DESCRIPTION:Virtually attend meeting via Microsoft Teams \nLink to Agenda \nJoin Teams Meeting:  https://www.microsoft.com/en-us/microsoft-teams/join-a-meeting \n \nMeeting ID: 261 174 214 35 \nPasscode: cY2jA33d
URL:https://www.marathoncitywi.gov/event/utility-commission-meeting-4/
LOCATION:Village Hall\, 311 Walnut Street\, Marathon City\, WI\, 54448\, United States
CATEGORIES:Meetings
ATTACH;FMTTYPE=image/png:https://www.marathoncitywi.gov/wp-content/uploads/2025/04/UTILITY-COMMISSION-MEETING.png
END:VEVENT
BEGIN:VEVENT
DTSTART;TZID=America/Los_Angeles:20250507T180000
DTEND;TZID=America/Los_Angeles:20250507T200000
DTSTAMP:20260422T105337
CREATED:20250505T165243Z
LAST-MODIFIED:20250505T165353Z
UID:10000399-1746640800-1746648000@www.marathoncitywi.gov
SUMMARY:Village Board Meeting
DESCRIPTION:Link to Agenda \nVirtually attend meeting via Microsoft Teams \nJoin Teams Meeting:  https://www.microsoft.com/en-us/microsoft-teams/join-a-meeting \n \nMeeting ID: 229 434 982 56 \nPasscode: 832Rn6k4
URL:https://www.marathoncitywi.gov/event/village-board-meeting-3/
LOCATION:Village Hall\, 311 Walnut Street\, Marathon City\, WI\, 54448\, United States
CATEGORIES:Meetings
ATTACH;FMTTYPE=image/png:https://www.marathoncitywi.gov/wp-content/uploads/2025/04/VILLAGE-BOARD-MEETING.png
END:VEVENT
BEGIN:VEVENT
DTSTART;TZID=America/Los_Angeles:20250507T180000
DTEND;TZID=America/Los_Angeles:20250507T200000
DTSTAMP:20260422T105337
CREATED:20241028T171439Z
LAST-MODIFIED:20250408T143537Z
UID:10001258-1746640800-1746648000@www.marathoncitywi.gov
SUMMARY:Village Board Meeting
DESCRIPTION:Virtually attend meeting via Microsoft Teams \nJoin Teams Meeting:  https://www.microsoft.com/en-us/microsoft-teams/join-a-meeting \n \nMeeting ID: 229 434 982 56 \nPasscode: 832Rn6k4
URL:https://www.marathoncitywi.gov/event/village-board-meeting/2025-05-07/
LOCATION:Village Hall\, 311 Walnut Street\, Marathon City\, WI\, 54448\, United States
CATEGORIES:Meetings
ATTACH;FMTTYPE=image/png:https://www.marathoncitywi.gov/wp-content/uploads/2025/04/VILLAGE-BOARD-MEETING.png
END:VEVENT
BEGIN:VEVENT
DTSTART;TZID=America/Los_Angeles:20250430T160000
DTEND;TZID=America/Los_Angeles:20250430T173000
DTSTAMP:20260422T105337
CREATED:20250428T153907Z
LAST-MODIFIED:20250428T153908Z
UID:10000458-1746028800-1746034200@www.marathoncitywi.gov
SUMMARY:Utility Commission Meeting
DESCRIPTION:Virtually attend meeting via Microsoft Teams \nLink to Agenda \nJoin Teams Meeting:  https://www.microsoft.com/en-us/microsoft-teams/join-a-meeting \n \nMeeting ID: 261 174 214 35 \nPasscode: cY2jA33d
URL:https://www.marathoncitywi.gov/event/utility-commission-meeting-3/
LOCATION:Village Hall\, 311 Walnut Street\, Marathon City\, WI\, 54448\, United States
CATEGORIES:Meetings
ATTACH;FMTTYPE=image/png:https://www.marathoncitywi.gov/wp-content/uploads/2025/04/UTILITY-COMMISSION-MEETING.png
END:VEVENT
BEGIN:VEVENT
DTSTART;TZID=America/Los_Angeles:20250402T180000
DTEND;TZID=America/Los_Angeles:20250402T200000
DTSTAMP:20260422T105337
CREATED:20241028T171439Z
LAST-MODIFIED:20250408T143537Z
UID:10000398-1743616800-1743624000@www.marathoncitywi.gov
SUMMARY:Village Board Meeting
DESCRIPTION:Virtually attend meeting via Microsoft Teams \nJoin Teams Meeting:  https://www.microsoft.com/en-us/microsoft-teams/join-a-meeting \n \nMeeting ID: 229 434 982 56 \nPasscode: 832Rn6k4
URL:https://www.marathoncitywi.gov/event/village-board-meeting/2025-04-02/
LOCATION:Village Hall\, 311 Walnut Street\, Marathon City\, WI\, 54448\, United States
CATEGORIES:Meetings
ATTACH;FMTTYPE=image/png:https://www.marathoncitywi.gov/wp-content/uploads/2025/04/VILLAGE-BOARD-MEETING.png
END:VEVENT
BEGIN:VEVENT
DTSTART;TZID=America/Los_Angeles:20250326T160000
DTEND;TZID=America/Los_Angeles:20250326T173000
DTSTAMP:20260422T105337
CREATED:20241028T171823Z
LAST-MODIFIED:20251030T133104Z
UID:10001251-1743004800-1743010200@www.marathoncitywi.gov
SUMMARY:Utility Commission Meeting
DESCRIPTION:Virtually attend meeting via Microsoft Teams \nJoin Teams Meeting:  https://www.microsoft.com/en-us/microsoft-teams/join-a-meeting \n \nMeeting ID: 261 174 214 35 \nPasscode: cY2jA33d
URL:https://www.marathoncitywi.gov/event/utility-commission-meeting/2025-03-26/
LOCATION:Village Hall\, 311 Walnut Street\, Marathon City\, WI\, 54448\, United States
CATEGORIES:Meetings
ATTACH;FMTTYPE=image/png:https://www.marathoncitywi.gov/wp-content/uploads/2025/04/UTILITY-COMMISSION-MEETING.png
END:VEVENT
BEGIN:VEVENT
DTSTART;TZID=America/Los_Angeles:20250305T180000
DTEND;TZID=America/Los_Angeles:20250305T200000
DTSTAMP:20260422T105337
CREATED:20250304T195256Z
LAST-MODIFIED:20250408T122628Z
UID:10000397-1741197600-1741204800@www.marathoncitywi.gov
SUMMARY:Village Board Meeting
DESCRIPTION:Link to Agenda \nVirtually attend meeting via Microsoft Teams \nJoin Teams Meeting:  https://www.microsoft.com/en-us/microsoft-teams/join-a-meeting \n \nMeeting ID: 229 434 982 56 \nPasscode: 832Rn6k4
URL:https://www.marathoncitywi.gov/event/village-board-meeting-2/
LOCATION:Village Hall\, 311 Walnut Street\, Marathon City\, WI\, 54448\, United States
CATEGORIES:Meetings
ATTACH;FMTTYPE=image/png:https://www.marathoncitywi.gov/wp-content/uploads/2025/04/VILLAGE-BOARD-MEETING.png
END:VEVENT
BEGIN:VEVENT
DTSTART;TZID=America/Los_Angeles:20250305T180000
DTEND;TZID=America/Los_Angeles:20250305T200000
DTSTAMP:20260422T105337
CREATED:20241028T171439Z
LAST-MODIFIED:20250408T143537Z
UID:10001161-1741197600-1741204800@www.marathoncitywi.gov
SUMMARY:Village Board Meeting
DESCRIPTION:Virtually attend meeting via Microsoft Teams \nJoin Teams Meeting:  https://www.microsoft.com/en-us/microsoft-teams/join-a-meeting \n \nMeeting ID: 229 434 982 56 \nPasscode: 832Rn6k4
URL:https://www.marathoncitywi.gov/event/village-board-meeting/2025-03-05/
LOCATION:Village Hall\, 311 Walnut Street\, Marathon City\, WI\, 54448\, United States
CATEGORIES:Meetings
ATTACH;FMTTYPE=image/png:https://www.marathoncitywi.gov/wp-content/uploads/2025/04/VILLAGE-BOARD-MEETING.png
END:VEVENT
BEGIN:VEVENT
DTSTART;TZID=America/Los_Angeles:20250226T160000
DTEND;TZID=America/Los_Angeles:20250226T173000
DTSTAMP:20260422T105337
CREATED:20250225T163521Z
LAST-MODIFIED:20250428T153702Z
UID:10001018-1740585600-1740591000@www.marathoncitywi.gov
SUMMARY:Utility Commission Meeting
DESCRIPTION:Link to Agenda \nVirtually attend meeting via Microsoft Teams \nJoin Teams Meeting:  https://www.microsoft.com/en-us/microsoft-teams/join-a-meeting \n \nMeeting ID: 261 174 214 35 \nPasscode: cY2jA33d
URL:https://www.marathoncitywi.gov/event/utility-commission-meeting-2/
LOCATION:Village Hall\, 311 Walnut Street\, Marathon City\, WI\, 54448\, United States
CATEGORIES:Meetings
ATTACH;FMTTYPE=image/png:https://www.marathoncitywi.gov/wp-content/uploads/2025/02/Board-Meeting-Clipart.png
END:VEVENT
BEGIN:VEVENT
DTSTART;TZID=America/Los_Angeles:20250226T160000
DTEND;TZID=America/Los_Angeles:20250226T173000
DTSTAMP:20260422T105337
CREATED:20241028T171823Z
LAST-MODIFIED:20251030T133104Z
UID:10001020-1740585600-1740591000@www.marathoncitywi.gov
SUMMARY:Utility Commission Meeting
DESCRIPTION:Virtually attend meeting via Microsoft Teams \nJoin Teams Meeting:  https://www.microsoft.com/en-us/microsoft-teams/join-a-meeting \n \nMeeting ID: 261 174 214 35 \nPasscode: cY2jA33d
URL:https://www.marathoncitywi.gov/event/utility-commission-meeting/2025-02-26/
LOCATION:Village Hall\, 311 Walnut Street\, Marathon City\, WI\, 54448\, United States
CATEGORIES:Meetings
ATTACH;FMTTYPE=image/png:https://www.marathoncitywi.gov/wp-content/uploads/2025/04/UTILITY-COMMISSION-MEETING.png
END:VEVENT
BEGIN:VEVENT
DTSTART;TZID=America/Los_Angeles:20250205T180000
DTEND;TZID=America/Los_Angeles:20250205T200000
DTSTAMP:20260422T105337
CREATED:20241028T171439Z
LAST-MODIFIED:20250408T143537Z
UID:10000396-1738778400-1738785600@www.marathoncitywi.gov
SUMMARY:Village Board Meeting
DESCRIPTION:Virtually attend meeting via Microsoft Teams \nJoin Teams Meeting:  https://www.microsoft.com/en-us/microsoft-teams/join-a-meeting \n \nMeeting ID: 229 434 982 56 \nPasscode: 832Rn6k4
URL:https://www.marathoncitywi.gov/event/village-board-meeting/2025-02-05/
LOCATION:Village Hall\, 311 Walnut Street\, Marathon City\, WI\, 54448\, United States
CATEGORIES:Meetings
ATTACH;FMTTYPE=image/png:https://www.marathoncitywi.gov/wp-content/uploads/2025/04/VILLAGE-BOARD-MEETING.png
END:VEVENT
BEGIN:VEVENT
DTSTART;TZID=America/Los_Angeles:20250129T160000
DTEND;TZID=America/Los_Angeles:20250129T173000
DTSTAMP:20260422T105337
CREATED:20241028T171823Z
LAST-MODIFIED:20251030T133104Z
UID:10001019-1738166400-1738171800@www.marathoncitywi.gov
SUMMARY:Utility Commission Meeting
DESCRIPTION:Virtually attend meeting via Microsoft Teams \nJoin Teams Meeting:  https://www.microsoft.com/en-us/microsoft-teams/join-a-meeting \n \nMeeting ID: 261 174 214 35 \nPasscode: cY2jA33d
URL:https://www.marathoncitywi.gov/event/utility-commission-meeting/2025-01-29/
LOCATION:Village Hall\, 311 Walnut Street\, Marathon City\, WI\, 54448\, United States
CATEGORIES:Meetings
ATTACH;FMTTYPE=image/png:https://www.marathoncitywi.gov/wp-content/uploads/2025/04/UTILITY-COMMISSION-MEETING.png
END:VEVENT
BEGIN:VEVENT
DTSTART;TZID=America/Los_Angeles:20250102T180000
DTEND;TZID=America/Los_Angeles:20250102T200000
DTSTAMP:20260422T105337
CREATED:20241028T171439Z
LAST-MODIFIED:20250408T143537Z
UID:10001007-1735840800-1735848000@www.marathoncitywi.gov
SUMMARY:Village Board Meeting
DESCRIPTION:Virtually attend meeting via Microsoft Teams \nJoin Teams Meeting:  https://www.microsoft.com/en-us/microsoft-teams/join-a-meeting \n \nMeeting ID: 229 434 982 56 \nPasscode: 832Rn6k4
URL:https://www.marathoncitywi.gov/event/village-board-meeting/2025-01-02/
LOCATION:Village Hall\, 311 Walnut Street\, Marathon City\, WI\, 54448\, United States
CATEGORIES:Meetings
ATTACH;FMTTYPE=image/png:https://www.marathoncitywi.gov/wp-content/uploads/2025/04/VILLAGE-BOARD-MEETING.png
END:VEVENT
BEGIN:VEVENT
DTSTART;TZID=America/Los_Angeles:20241225T160000
DTEND;TZID=America/Los_Angeles:20241225T173000
DTSTAMP:20260422T105337
CREATED:20241028T171823Z
LAST-MODIFIED:20251030T133104Z
UID:10001010-1735142400-1735147800@www.marathoncitywi.gov
SUMMARY:Utility Commission Meeting
DESCRIPTION:Virtually attend meeting via Microsoft Teams \nJoin Teams Meeting:  https://www.microsoft.com/en-us/microsoft-teams/join-a-meeting \n \nMeeting ID: 261 174 214 35 \nPasscode: cY2jA33d
URL:https://www.marathoncitywi.gov/event/utility-commission-meeting/2024-12-25/
LOCATION:Village Hall\, 311 Walnut Street\, Marathon City\, WI\, 54448\, United States
CATEGORIES:Meetings
ATTACH;FMTTYPE=image/png:https://www.marathoncitywi.gov/wp-content/uploads/2025/04/UTILITY-COMMISSION-MEETING.png
END:VEVENT
BEGIN:VEVENT
DTSTART;TZID=America/Los_Angeles:20241204T180000
DTEND;TZID=America/Los_Angeles:20241204T200000
DTSTAMP:20260422T105337
CREATED:20241028T171439Z
LAST-MODIFIED:20250408T143537Z
UID:10000394-1733335200-1733342400@www.marathoncitywi.gov
SUMMARY:Village Board Meeting
DESCRIPTION:Virtually attend meeting via Microsoft Teams \nJoin Teams Meeting:  https://www.microsoft.com/en-us/microsoft-teams/join-a-meeting \n \nMeeting ID: 229 434 982 56 \nPasscode: 832Rn6k4
URL:https://www.marathoncitywi.gov/event/village-board-meeting/2024-12-04/
LOCATION:Village Hall\, 311 Walnut Street\, Marathon City\, WI\, 54448\, United States
CATEGORIES:Meetings
ATTACH;FMTTYPE=image/png:https://www.marathoncitywi.gov/wp-content/uploads/2025/04/VILLAGE-BOARD-MEETING.png
END:VEVENT
BEGIN:VEVENT
DTSTART;TZID=America/Los_Angeles:20241127T160000
DTEND;TZID=America/Los_Angeles:20241127T173000
DTSTAMP:20260422T105337
CREATED:20241028T171823Z
LAST-MODIFIED:20251030T133104Z
UID:10001009-1732723200-1732728600@www.marathoncitywi.gov
SUMMARY:Utility Commission Meeting
DESCRIPTION:Virtually attend meeting via Microsoft Teams \nJoin Teams Meeting:  https://www.microsoft.com/en-us/microsoft-teams/join-a-meeting \n \nMeeting ID: 261 174 214 35 \nPasscode: cY2jA33d
URL:https://www.marathoncitywi.gov/event/utility-commission-meeting/2024-11-27/
LOCATION:Village Hall\, 311 Walnut Street\, Marathon City\, WI\, 54448\, United States
CATEGORIES:Meetings
ATTACH;FMTTYPE=image/png:https://www.marathoncitywi.gov/wp-content/uploads/2025/04/UTILITY-COMMISSION-MEETING.png
END:VEVENT
BEGIN:VEVENT
DTSTART;TZID=America/Los_Angeles:20241106T180000
DTEND;TZID=America/Los_Angeles:20241106T200000
DTSTAMP:20260422T105337
CREATED:20241028T171439Z
LAST-MODIFIED:20250408T143537Z
UID:10000393-1730916000-1730923200@www.marathoncitywi.gov
SUMMARY:Village Board Meeting
DESCRIPTION:Virtually attend meeting via Microsoft Teams \nJoin Teams Meeting:  https://www.microsoft.com/en-us/microsoft-teams/join-a-meeting \n \nMeeting ID: 229 434 982 56 \nPasscode: 832Rn6k4
URL:https://www.marathoncitywi.gov/event/village-board-meeting/2024-11-06/
LOCATION:Village Hall\, 311 Walnut Street\, Marathon City\, WI\, 54448\, United States
CATEGORIES:Meetings
ATTACH;FMTTYPE=image/png:https://www.marathoncitywi.gov/wp-content/uploads/2025/04/VILLAGE-BOARD-MEETING.png
END:VEVENT
BEGIN:VEVENT
DTSTART;TZID=America/Los_Angeles:20241030T160000
DTEND;TZID=America/Los_Angeles:20241030T173000
DTSTAMP:20260422T105337
CREATED:20241028T171823Z
LAST-MODIFIED:20251030T133104Z
UID:10000990-1730304000-1730309400@www.marathoncitywi.gov
SUMMARY:Utility Commission Meeting
DESCRIPTION:Virtually attend meeting via Microsoft Teams \nJoin Teams Meeting:  https://www.microsoft.com/en-us/microsoft-teams/join-a-meeting \n \nMeeting ID: 261 174 214 35 \nPasscode: cY2jA33d
URL:https://www.marathoncitywi.gov/event/utility-commission-meeting/2024-10-30/
LOCATION:Village Hall\, 311 Walnut Street\, Marathon City\, WI\, 54448\, United States
CATEGORIES:Meetings
ATTACH;FMTTYPE=image/png:https://www.marathoncitywi.gov/wp-content/uploads/2025/04/UTILITY-COMMISSION-MEETING.png
END:VEVENT
END:VCALENDAR