BEGIN:VCALENDAR
VERSION:2.0
PRODID:-//Village of Marathon City - ECPv6.15.20//NONSGML v1.0//EN
CALSCALE:GREGORIAN
METHOD:PUBLISH
X-WR-CALNAME:Village of Marathon City
X-ORIGINAL-URL:https://www.marathoncitywi.gov
X-WR-CALDESC:Events for Village of Marathon City
REFRESH-INTERVAL;VALUE=DURATION:PT1H
X-Robots-Tag:noindex
X-PUBLISHED-TTL:PT1H
BEGIN:VTIMEZONE
TZID:America/Los_Angeles
BEGIN:DAYLIGHT
TZOFFSETFROM:-0800
TZOFFSETTO:-0700
TZNAME:PDT
DTSTART:20240310T100000
END:DAYLIGHT
BEGIN:STANDARD
TZOFFSETFROM:-0700
TZOFFSETTO:-0800
TZNAME:PST
DTSTART:20241103T090000
END:STANDARD
BEGIN:DAYLIGHT
TZOFFSETFROM:-0800
TZOFFSETTO:-0700
TZNAME:PDT
DTSTART:20250309T100000
END:DAYLIGHT
BEGIN:STANDARD
TZOFFSETFROM:-0700
TZOFFSETTO:-0800
TZNAME:PST
DTSTART:20251102T090000
END:STANDARD
BEGIN:DAYLIGHT
TZOFFSETFROM:-0800
TZOFFSETTO:-0700
TZNAME:PDT
DTSTART:20260308T100000
END:DAYLIGHT
BEGIN:STANDARD
TZOFFSETFROM:-0700
TZOFFSETTO:-0800
TZNAME:PST
DTSTART:20261101T090000
END:STANDARD
BEGIN:DAYLIGHT
TZOFFSETFROM:-0800
TZOFFSETTO:-0700
TZNAME:PDT
DTSTART:20270314T100000
END:DAYLIGHT
BEGIN:STANDARD
TZOFFSETFROM:-0700
TZOFFSETTO:-0800
TZNAME:PST
DTSTART:20271107T090000
END:STANDARD
END:VTIMEZONE
BEGIN:VTIMEZONE
TZID:America/Chicago
BEGIN:DAYLIGHT
TZOFFSETFROM:-0600
TZOFFSETTO:-0500
TZNAME:CDT
DTSTART:20240310T080000
END:DAYLIGHT
BEGIN:STANDARD
TZOFFSETFROM:-0500
TZOFFSETTO:-0600
TZNAME:CST
DTSTART:20241103T070000
END:STANDARD
BEGIN:DAYLIGHT
TZOFFSETFROM:-0600
TZOFFSETTO:-0500
TZNAME:CDT
DTSTART:20250309T080000
END:DAYLIGHT
BEGIN:STANDARD
TZOFFSETFROM:-0500
TZOFFSETTO:-0600
TZNAME:CST
DTSTART:20251102T070000
END:STANDARD
BEGIN:DAYLIGHT
TZOFFSETFROM:-0600
TZOFFSETTO:-0500
TZNAME:CDT
DTSTART:20260308T080000
END:DAYLIGHT
BEGIN:STANDARD
TZOFFSETFROM:-0500
TZOFFSETTO:-0600
TZNAME:CST
DTSTART:20261101T070000
END:STANDARD
BEGIN:DAYLIGHT
TZOFFSETFROM:-0600
TZOFFSETTO:-0500
TZNAME:CDT
DTSTART:20270314T080000
END:DAYLIGHT
BEGIN:STANDARD
TZOFFSETFROM:-0500
TZOFFSETTO:-0600
TZNAME:CST
DTSTART:20271107T070000
END:STANDARD
END:VTIMEZONE
BEGIN:VEVENT
DTSTART;TZID=America/Los_Angeles:20260421T180000
DTEND;TZID=America/Los_Angeles:20260421T200000
DTSTAMP:20260422T070636
CREATED:20250225T160254Z
LAST-MODIFIED:20260421T135120Z
UID:10001016-1776794400-1776801600@www.marathoncitywi.gov
SUMMARY:Special Organizational Board Meeting
DESCRIPTION:The Village will be holding a Special Organizational Board Meeting open to the Public. \nAgenda can be found here \nVirtually attend meeting via Microsoft Teams \nJoin Teams Meeting:  https://www.microsoft.com/en-us/microsoft-teams/join-a-meeting \n \nMeeting ID: 270 279 044 902 15 \nPasscode: 8qD6RT7i
URL:https://www.marathoncitywi.gov/event/special-board-meeting/
LOCATION:Village Hall\, 311 Walnut Street\, Marathon City\, WI\, 54448\, United States
CATEGORIES:Meetings
ATTACH;FMTTYPE=image/png:https://www.marathoncitywi.gov/wp-content/uploads/2025/04/SPECIAL-VILLAGE-BOARD-MEETING.png
ORGANIZER;CN="Cassie Lang":MAILTO:clang@marathoncitywi.gov
END:VEVENT
BEGIN:VEVENT
DTSTART;TZID=America/Los_Angeles:20260401T180000
DTEND;TZID=America/Los_Angeles:20260401T200000
DTSTAMP:20260422T070636
CREATED:20241028T171439Z
LAST-MODIFIED:20250408T143537Z
UID:10000410-1775066400-1775073600@www.marathoncitywi.gov
SUMMARY:Village Board Meeting
DESCRIPTION:Virtually attend meeting via Microsoft Teams \nJoin Teams Meeting:  https://www.microsoft.com/en-us/microsoft-teams/join-a-meeting \n \nMeeting ID: 229 434 982 56 \nPasscode: 832Rn6k4
URL:https://www.marathoncitywi.gov/event/village-board-meeting/2026-04-01/
LOCATION:Village Hall\, 311 Walnut Street\, Marathon City\, WI\, 54448\, United States
CATEGORIES:Meetings
ATTACH;FMTTYPE=image/png:https://www.marathoncitywi.gov/wp-content/uploads/2025/04/VILLAGE-BOARD-MEETING.png
END:VEVENT
BEGIN:VEVENT
DTSTART;TZID=America/Los_Angeles:20260325T160000
DTEND;TZID=America/Los_Angeles:20260325T173000
DTSTAMP:20260422T070636
CREATED:20260223T145830Z
LAST-MODIFIED:20260223T145832Z
UID:10000469-1774454400-1774459800@www.marathoncitywi.gov
SUMMARY:Utility Commission Meeting
DESCRIPTION:Virtually attend meeting via Microsoft Teams \nJoin Teams Meeting:  https://www.microsoft.com/en-us/microsoft-teams/join-a-meeting \n \nMeeting ID: 261 174 214 35 \nPasscode: cY2jA33d
URL:https://www.marathoncitywi.gov/event/utility-commission-meeting-9/2026-03-25/
LOCATION:Village Hall\, 311 Walnut Street\, Marathon City\, WI\, 54448\, United States
CATEGORIES:Meetings
ATTACH;FMTTYPE=image/png:https://www.marathoncitywi.gov/wp-content/uploads/2025/04/UTILITY-COMMISSION-MEETING.png
END:VEVENT
BEGIN:VEVENT
DTSTART;TZID=America/Los_Angeles:20260304T180000
DTEND;TZID=America/Los_Angeles:20260304T200000
DTSTAMP:20260422T070636
CREATED:20260302T202221Z
LAST-MODIFIED:20260302T202222Z
UID:10000409-1772647200-1772654400@www.marathoncitywi.gov
SUMMARY:Village Board Meeting
DESCRIPTION:Link to Agenda \nLink to Packet \nVirtually attend meeting via Microsoft Teams \nJoin Teams Meeting:  https://www.microsoft.com/en-us/microsoft-teams/join-a-meeting \n \nMeeting ID: 229 434 982 56 \nPasscode: 832Rn6k4
URL:https://www.marathoncitywi.gov/event/village-board-meeting-8/
LOCATION:Village Hall\, 311 Walnut Street\, Marathon City\, WI\, 54448\, United States
CATEGORIES:Meetings
ATTACH;FMTTYPE=image/png:https://www.marathoncitywi.gov/wp-content/uploads/2025/04/VILLAGE-BOARD-MEETING.png
END:VEVENT
BEGIN:VEVENT
DTSTART;TZID=America/Chicago:20260211T180000
DTEND;TZID=America/Chicago:20260211T200000
DTSTAMP:20260422T070636
CREATED:20260209T174354Z
LAST-MODIFIED:20260210T194640Z
UID:10001306-1770832800-1770840000@www.marathoncitywi.gov
SUMMARY:Special Village Board Meeting
DESCRIPTION:Virtually attend meeting via Microsoft Teams \nAgenda \nJoin Teams Meeting:  https://www.microsoft.com/en-us/microsoft-teams/join-a-meeting \n \nMeeting ID: 217 637 544 122 49 \nPasscode: ok2SF3Ei
URL:https://www.marathoncitywi.gov/event/special-village-board-meeting-2-2/
LOCATION:Village Hall\, 311 Walnut Street\, Marathon City\, WI\, 54448\, United States
CATEGORIES:Meetings
ATTACH;FMTTYPE=image/png:https://www.marathoncitywi.gov/wp-content/uploads/2025/04/SPECIAL-VILLAGE-BOARD-MEETING.png
END:VEVENT
BEGIN:VEVENT
DTSTART;TZID=America/Los_Angeles:20260204T180000
DTEND;TZID=America/Los_Angeles:20260204T200000
DTSTAMP:20260422T070636
CREATED:20241028T171439Z
LAST-MODIFIED:20250408T143537Z
UID:10000408-1770228000-1770235200@www.marathoncitywi.gov
SUMMARY:Village Board Meeting
DESCRIPTION:Virtually attend meeting via Microsoft Teams \nJoin Teams Meeting:  https://www.microsoft.com/en-us/microsoft-teams/join-a-meeting \n \nMeeting ID: 229 434 982 56 \nPasscode: 832Rn6k4
URL:https://www.marathoncitywi.gov/event/village-board-meeting/2026-02-04/
LOCATION:Village Hall\, 311 Walnut Street\, Marathon City\, WI\, 54448\, United States
CATEGORIES:Meetings
ATTACH;FMTTYPE=image/png:https://www.marathoncitywi.gov/wp-content/uploads/2025/04/VILLAGE-BOARD-MEETING.png
END:VEVENT
BEGIN:VEVENT
DTSTART;TZID=America/Chicago:20260129T170000
DTEND;TZID=America/Chicago:20260129T190000
DTSTAMP:20260422T070636
CREATED:20260126T184422Z
LAST-MODIFIED:20260209T173944Z
UID:10001305-1769706000-1769713200@www.marathoncitywi.gov
SUMMARY:Special Village Board Meeting
DESCRIPTION:Virtually attend meeting via Microsoft Teams \nAgenda \nJoin Teams Meeting:  https://www.microsoft.com/en-us/microsoft-teams/join-a-meeting \n \nMeeting ID: 274 864 044 767 16 \nPasscode: Y5sk7if9
URL:https://www.marathoncitywi.gov/event/special-village-board-meeting-2/
LOCATION:Village Hall\, 311 Walnut Street\, Marathon City\, WI\, 54448\, United States
CATEGORIES:Meetings
ATTACH;FMTTYPE=image/png:https://www.marathoncitywi.gov/wp-content/uploads/2025/04/SPECIAL-VILLAGE-BOARD-MEETING.png
END:VEVENT
BEGIN:VEVENT
DTSTART;TZID=America/Los_Angeles:20260128T160000
DTEND;TZID=America/Los_Angeles:20260128T173000
DTSTAMP:20260422T070636
CREATED:20260123T163749Z
LAST-MODIFIED:20260127T172940Z
UID:10000467-1769616000-1769621400@www.marathoncitywi.gov
SUMMARY:Utility Commission Meeting
DESCRIPTION:Agenda \nPacket \nVirtually attend meeting via Microsoft Teams \nJoin Teams Meeting:  https://www.microsoft.com/en-us/microsoft-teams/join-a-meeting \n \nMeeting ID: 261 174 214 35 \nPasscode: cY2jA33d
URL:https://www.marathoncitywi.gov/event/utility-commission-meeting-8/
LOCATION:Village Hall\, 311 Walnut Street\, Marathon City\, WI\, 54448\, United States
CATEGORIES:Meetings
ATTACH;FMTTYPE=image/png:https://www.marathoncitywi.gov/wp-content/uploads/2025/04/UTILITY-COMMISSION-MEETING.png
END:VEVENT
BEGIN:VEVENT
DTSTART;TZID=America/Los_Angeles:20260107T180000
DTEND;TZID=America/Los_Angeles:20260107T200000
DTSTAMP:20260422T070636
CREATED:20260105T152544Z
LAST-MODIFIED:20260106T205635Z
UID:10000407-1767808800-1767816000@www.marathoncitywi.gov
SUMMARY:Village Board Meeting
DESCRIPTION:Link to Agenda \nVirtually attend meeting via Microsoft Teams \nJoin Teams Meeting:  https://www.microsoft.com/en-us/microsoft-teams/join-a-meeting \n \nMeeting ID: 229 434 982 56 \nPasscode: 832Rn6k4
URL:https://www.marathoncitywi.gov/event/village-board-meeting-7/
LOCATION:Village Hall\, 311 Walnut Street\, Marathon City\, WI\, 54448\, United States
CATEGORIES:Meetings
ATTACH;FMTTYPE=image/png:https://www.marathoncitywi.gov/wp-content/uploads/2025/04/VILLAGE-BOARD-MEETING.png
END:VEVENT
BEGIN:VEVENT
DTSTART;TZID=America/Los_Angeles:20251217T160000
DTEND;TZID=America/Los_Angeles:20251217T180000
DTSTAMP:20260422T070636
CREATED:20241028T171823Z
LAST-MODIFIED:20251030T133104Z
UID:10001300-1765987200-1765994400@www.marathoncitywi.gov
SUMMARY:Utility Commission Meeting
DESCRIPTION:Virtually attend meeting via Microsoft Teams \nJoin Teams Meeting:  https://www.microsoft.com/en-us/microsoft-teams/join-a-meeting \n \nMeeting ID: 261 174 214 35 \nPasscode: cY2jA33d
URL:https://www.marathoncitywi.gov/event/utility-commission-meeting/2025-12-17/
LOCATION:Village Hall\, 311 Walnut Street\, Marathon City\, WI\, 54448\, United States
CATEGORIES:Meetings
ATTACH;FMTTYPE=image/png:https://www.marathoncitywi.gov/wp-content/uploads/2025/04/UTILITY-COMMISSION-MEETING.png
END:VEVENT
BEGIN:VEVENT
DTSTART;TZID=America/Los_Angeles:20251203T180000
DTEND;TZID=America/Los_Angeles:20251203T200000
DTSTAMP:20260422T070636
CREATED:20251201T214851Z
LAST-MODIFIED:20251201T214852Z
UID:10000406-1764784800-1764792000@www.marathoncitywi.gov
SUMMARY:Village Board Meeting
DESCRIPTION:Link to Agenda \nVirtually attend meeting via Microsoft Teams \nJoin Teams Meeting:  https://www.microsoft.com/en-us/microsoft-teams/join-a-meeting \n \nMeeting ID: 229 434 982 56 \nPasscode: 832Rn6k4
URL:https://www.marathoncitywi.gov/event/village-board-meeting-6/
LOCATION:Village Hall\, 311 Walnut Street\, Marathon City\, WI\, 54448\, United States
CATEGORIES:Meetings
ATTACH;FMTTYPE=image/png:https://www.marathoncitywi.gov/wp-content/uploads/2025/04/VILLAGE-BOARD-MEETING.png
END:VEVENT
BEGIN:VEVENT
DTSTART;TZID=America/Los_Angeles:20251112T180000
DTEND;TZID=America/Los_Angeles:20251112T200000
DTSTAMP:20260422T070636
CREATED:20250605T162153Z
LAST-MODIFIED:20251021T205849Z
UID:10001255-1762970400-1762977600@www.marathoncitywi.gov
SUMMARY:Special Village Board Meeting - Village Budget Hearing
DESCRIPTION:Virtually attend meeting via Microsoft Teams \nLink to Agenda coming soon \nJoin Teams Meeting:  https://www.microsoft.com/en-us/microsoft-teams/join-a-meeting \n \nMeeting ID: 231 110 898 394 8 \nPasscode: Z3uz6bP7
URL:https://www.marathoncitywi.gov/event/special-village-board-meeting/
LOCATION:Village Hall\, 311 Walnut Street\, Marathon City\, WI\, 54448\, United States
CATEGORIES:Meetings
ATTACH;FMTTYPE=image/png:https://www.marathoncitywi.gov/wp-content/uploads/2025/04/SPECIAL-VILLAGE-BOARD-MEETING.png
END:VEVENT
BEGIN:VEVENT
DTSTART;TZID=America/Los_Angeles:20251105T180000
DTEND;TZID=America/Los_Angeles:20251105T200000
DTSTAMP:20260422T070636
CREATED:20241028T171439Z
LAST-MODIFIED:20250408T143537Z
UID:10000405-1762365600-1762372800@www.marathoncitywi.gov
SUMMARY:Village Board Meeting
DESCRIPTION:Virtually attend meeting via Microsoft Teams \nJoin Teams Meeting:  https://www.microsoft.com/en-us/microsoft-teams/join-a-meeting \n \nMeeting ID: 229 434 982 56 \nPasscode: 832Rn6k4
URL:https://www.marathoncitywi.gov/event/village-board-meeting/2025-11-05/
LOCATION:Village Hall\, 311 Walnut Street\, Marathon City\, WI\, 54448\, United States
CATEGORIES:Meetings
ATTACH;FMTTYPE=image/png:https://www.marathoncitywi.gov/wp-content/uploads/2025/04/VILLAGE-BOARD-MEETING.png
END:VEVENT
BEGIN:VEVENT
DTSTART;TZID=America/Los_Angeles:20251029T160000
DTEND;TZID=America/Los_Angeles:20251029T173000
DTSTAMP:20260422T070636
CREATED:20251029T131551Z
LAST-MODIFIED:20251029T131553Z
UID:10000464-1761753600-1761759000@www.marathoncitywi.gov
SUMMARY:Utility Commission Meeting
DESCRIPTION:Virtually attend meeting via Microsoft Teams \nLink to Agenda \nJoin Teams Meeting:  https://www.microsoft.com/en-us/microsoft-teams/join-a-meeting \n \nMeeting ID: 261 174 214 35 \nPasscode: cY2jA33d
URL:https://www.marathoncitywi.gov/event/utility-commission-meeting-7/
LOCATION:Village Hall\, 311 Walnut Street\, Marathon City\, WI\, 54448\, United States
CATEGORIES:Meetings
ATTACH;FMTTYPE=image/png:https://www.marathoncitywi.gov/wp-content/uploads/2025/04/UTILITY-COMMISSION-MEETING.png
END:VEVENT
BEGIN:VEVENT
DTSTART;TZID=America/Los_Angeles:20251001T180000
DTEND;TZID=America/Los_Angeles:20251001T200000
DTSTAMP:20260422T070636
CREATED:20241028T171439Z
LAST-MODIFIED:20250408T143537Z
UID:10000404-1759341600-1759348800@www.marathoncitywi.gov
SUMMARY:Village Board Meeting
DESCRIPTION:Virtually attend meeting via Microsoft Teams \nJoin Teams Meeting:  https://www.microsoft.com/en-us/microsoft-teams/join-a-meeting \n \nMeeting ID: 229 434 982 56 \nPasscode: 832Rn6k4
URL:https://www.marathoncitywi.gov/event/village-board-meeting/2025-10-01/
LOCATION:Village Hall\, 311 Walnut Street\, Marathon City\, WI\, 54448\, United States
CATEGORIES:Meetings
ATTACH;FMTTYPE=image/png:https://www.marathoncitywi.gov/wp-content/uploads/2025/04/VILLAGE-BOARD-MEETING.png
END:VEVENT
BEGIN:VEVENT
DTSTART;TZID=America/Los_Angeles:20250924T160000
DTEND;TZID=America/Los_Angeles:20250924T173000
DTSTAMP:20260422T070636
CREATED:20250923T200325Z
LAST-MODIFIED:20250923T200326Z
UID:10000463-1758729600-1758735000@www.marathoncitywi.gov
SUMMARY:Utility Commission Meeting
DESCRIPTION:Link to Agenda \nVirtually attend meeting via Microsoft Teams \nJoin Teams Meeting:  https://www.microsoft.com/en-us/microsoft-teams/join-a-meeting \n \nMeeting ID: 261 174 214 35 \nPasscode: cY2jA33d
URL:https://www.marathoncitywi.gov/event/utility-commission-meeting-6/
LOCATION:Village Hall\, 311 Walnut Street\, Marathon City\, WI\, 54448\, United States
CATEGORIES:Meetings
ATTACH;FMTTYPE=image/png:https://www.marathoncitywi.gov/wp-content/uploads/2025/04/UTILITY-COMMISSION-MEETING.png
END:VEVENT
BEGIN:VEVENT
DTSTART;TZID=America/Los_Angeles:20250903T180000
DTEND;TZID=America/Los_Angeles:20250903T200000
DTSTAMP:20260422T070636
CREATED:20241028T171439Z
LAST-MODIFIED:20250408T143537Z
UID:10000403-1756922400-1756929600@www.marathoncitywi.gov
SUMMARY:Village Board Meeting
DESCRIPTION:Virtually attend meeting via Microsoft Teams \nJoin Teams Meeting:  https://www.microsoft.com/en-us/microsoft-teams/join-a-meeting \n \nMeeting ID: 229 434 982 56 \nPasscode: 832Rn6k4
URL:https://www.marathoncitywi.gov/event/village-board-meeting/2025-09-03/
LOCATION:Village Hall\, 311 Walnut Street\, Marathon City\, WI\, 54448\, United States
CATEGORIES:Meetings
ATTACH;FMTTYPE=image/png:https://www.marathoncitywi.gov/wp-content/uploads/2025/04/VILLAGE-BOARD-MEETING.png
END:VEVENT
BEGIN:VEVENT
DTSTART;TZID=America/Los_Angeles:20250827T160000
DTEND;TZID=America/Los_Angeles:20250827T173000
DTSTAMP:20260422T070636
CREATED:20241028T171823Z
LAST-MODIFIED:20251030T133104Z
UID:10000462-1756310400-1756315800@www.marathoncitywi.gov
SUMMARY:Utility Commission Meeting
DESCRIPTION:Virtually attend meeting via Microsoft Teams \nJoin Teams Meeting:  https://www.microsoft.com/en-us/microsoft-teams/join-a-meeting \n \nMeeting ID: 261 174 214 35 \nPasscode: cY2jA33d
URL:https://www.marathoncitywi.gov/event/utility-commission-meeting/2025-08-27/
LOCATION:Village Hall\, 311 Walnut Street\, Marathon City\, WI\, 54448\, United States
CATEGORIES:Meetings
ATTACH;FMTTYPE=image/png:https://www.marathoncitywi.gov/wp-content/uploads/2025/04/UTILITY-COMMISSION-MEETING.png
END:VEVENT
BEGIN:VEVENT
DTSTART;TZID=America/Los_Angeles:20250806T180000
DTEND;TZID=America/Los_Angeles:20250806T200000
DTSTAMP:20260422T070636
CREATED:20250801T203012Z
LAST-MODIFIED:20250801T203202Z
UID:10000402-1754503200-1754510400@www.marathoncitywi.gov
SUMMARY:Village Board Meeting
DESCRIPTION:Link to Agenda \nVirtually attend meeting via Microsoft Teams \nJoin Teams Meeting:  https://www.microsoft.com/en-us/microsoft-teams/join-a-meeting \n \nMeeting ID: 229 434 982 56 \nPasscode: 832Rn6k4
URL:https://www.marathoncitywi.gov/event/village-board-meeting-5/
LOCATION:Village Hall\, 311 Walnut Street\, Marathon City\, WI\, 54448\, United States
CATEGORIES:Meetings
ATTACH;FMTTYPE=image/png:https://www.marathoncitywi.gov/wp-content/uploads/2025/04/VILLAGE-BOARD-MEETING.png
END:VEVENT
BEGIN:VEVENT
DTSTART;TZID=America/Los_Angeles:20250730T160000
DTEND;TZID=America/Los_Angeles:20250730T173000
DTSTAMP:20260422T070636
CREATED:20241028T171823Z
LAST-MODIFIED:20251030T133104Z
UID:10000461-1753891200-1753896600@www.marathoncitywi.gov
SUMMARY:Utility Commission Meeting
DESCRIPTION:Virtually attend meeting via Microsoft Teams \nJoin Teams Meeting:  https://www.microsoft.com/en-us/microsoft-teams/join-a-meeting \n \nMeeting ID: 261 174 214 35 \nPasscode: cY2jA33d
URL:https://www.marathoncitywi.gov/event/utility-commission-meeting/2025-07-30/
LOCATION:Village Hall\, 311 Walnut Street\, Marathon City\, WI\, 54448\, United States
CATEGORIES:Meetings
ATTACH;FMTTYPE=image/png:https://www.marathoncitywi.gov/wp-content/uploads/2025/04/UTILITY-COMMISSION-MEETING.png
END:VEVENT
BEGIN:VEVENT
DTSTART;TZID=America/Chicago:20250723T170000
DTEND;TZID=America/Chicago:20250723T180000
DTSTAMP:20260422T070636
CREATED:20250725T200956Z
LAST-MODIFIED:20250725T200956Z
UID:10001257-1753290000-1753293600@www.marathoncitywi.gov
SUMMARY:Public Hearing / Plan Commission Meeting
DESCRIPTION:The Village of Marathon City Plan Commission will conduct a public hearing regarding a Rezoning. \nResidents of the Village of Marathon City are encouraged to attend. The meeting room is handicapped\nAccessible and will be open for less than 10 individuals. Persons needing additional accommodations\nshould contact Steven Cherek\, Village Administrator/Treasurer\, 311 Walnut Street Marathon City\, WI\n54448: Phone 715-443-2221 \nLink to Agendas \nVirtually attend meeting via Microsoft Teams \nJoin Teams Meeting:  https://www.microsoft.com/en-us/microsoft-teams/join-a-meeting \n \nMeeting ID: 268 434 593 592 5 \nPasscode: zi2pL9QA
URL:https://www.marathoncitywi.gov/event/public-hearing-plan-commission-meeting-3/
LOCATION:Village Hall\, 311 Walnut Street\, Marathon City\, WI\, 54448\, United States
CATEGORIES:Events,Meetings
ATTACH;FMTTYPE=image/jpeg:https://www.marathoncitywi.gov/wp-content/uploads/2025/02/Plan-Commission-Meeting-Clipart.jpg
END:VEVENT
BEGIN:VEVENT
DTSTART;TZID=America/Los_Angeles:20250702T180000
DTEND;TZID=America/Los_Angeles:20250702T200000
DTSTAMP:20260422T070636
CREATED:20241028T171439Z
LAST-MODIFIED:20250408T143537Z
UID:10000401-1751479200-1751486400@www.marathoncitywi.gov
SUMMARY:Village Board Meeting
DESCRIPTION:Virtually attend meeting via Microsoft Teams \nJoin Teams Meeting:  https://www.microsoft.com/en-us/microsoft-teams/join-a-meeting \n \nMeeting ID: 229 434 982 56 \nPasscode: 832Rn6k4
URL:https://www.marathoncitywi.gov/event/village-board-meeting/2025-07-02/
LOCATION:Village Hall\, 311 Walnut Street\, Marathon City\, WI\, 54448\, United States
CATEGORIES:Meetings
ATTACH;FMTTYPE=image/png:https://www.marathoncitywi.gov/wp-content/uploads/2025/04/VILLAGE-BOARD-MEETING.png
END:VEVENT
BEGIN:VEVENT
DTSTART;TZID=America/Los_Angeles:20250618T160000
DTEND;TZID=America/Los_Angeles:20250618T173000
DTSTAMP:20260422T070636
CREATED:20250616T134938Z
LAST-MODIFIED:20250616T134939Z
UID:10001252-1750262400-1750267800@www.marathoncitywi.gov
SUMMARY:Utility Commission Meeting
DESCRIPTION:Virtually attend meeting via Microsoft Teams \nLink to Agenda \nJoin Teams Meeting:  https://www.microsoft.com/en-us/microsoft-teams/join-a-meeting \n \nMeeting ID: 261 174 214 35 \nPasscode: cY2jA33d
URL:https://www.marathoncitywi.gov/event/utility-commission-meeting-5/
LOCATION:Village Hall\, 311 Walnut Street\, Marathon City\, WI\, 54448\, United States
CATEGORIES:Meetings
ATTACH;FMTTYPE=image/png:https://www.marathoncitywi.gov/wp-content/uploads/2025/04/UTILITY-COMMISSION-MEETING.png
END:VEVENT
BEGIN:VEVENT
DTSTART;TZID=America/Los_Angeles:20250604T180000
DTEND;TZID=America/Los_Angeles:20250604T200000
DTSTAMP:20260422T070636
CREATED:20250602T170930Z
LAST-MODIFIED:20250603T153659Z
UID:10000400-1749060000-1749067200@www.marathoncitywi.gov
SUMMARY:Village Board Meeting
DESCRIPTION:Virtually attend meeting via Microsoft Teams \nLink to Agenda \nJoin Teams Meeting:  https://www.microsoft.com/en-us/microsoft-teams/join-a-meeting \n \nMeeting ID: 229 434 982 56 \nPasscode: 832Rn6k4
URL:https://www.marathoncitywi.gov/event/village-board-meeting-4/
LOCATION:Village Hall\, 311 Walnut Street\, Marathon City\, WI\, 54448\, United States
CATEGORIES:Meetings
ATTACH;FMTTYPE=image/png:https://www.marathoncitywi.gov/wp-content/uploads/2025/04/VILLAGE-BOARD-MEETING.png
END:VEVENT
BEGIN:VEVENT
DTSTART;TZID=America/Los_Angeles:20250604T180000
DTEND;TZID=America/Los_Angeles:20250604T200000
DTSTAMP:20260422T070636
CREATED:20241028T171439Z
LAST-MODIFIED:20250408T143537Z
UID:10001259-1749060000-1749067200@www.marathoncitywi.gov
SUMMARY:Village Board Meeting
DESCRIPTION:Virtually attend meeting via Microsoft Teams \nJoin Teams Meeting:  https://www.microsoft.com/en-us/microsoft-teams/join-a-meeting \n \nMeeting ID: 229 434 982 56 \nPasscode: 832Rn6k4
URL:https://www.marathoncitywi.gov/event/village-board-meeting/2025-06-04/
LOCATION:Village Hall\, 311 Walnut Street\, Marathon City\, WI\, 54448\, United States
CATEGORIES:Meetings
ATTACH;FMTTYPE=image/png:https://www.marathoncitywi.gov/wp-content/uploads/2025/04/VILLAGE-BOARD-MEETING.png
END:VEVENT
BEGIN:VEVENT
DTSTART;TZID=America/Los_Angeles:20250528T160000
DTEND;TZID=America/Los_Angeles:20250528T173000
DTSTAMP:20260422T070636
CREATED:20250523T135134Z
LAST-MODIFIED:20250523T135136Z
UID:10000459-1748448000-1748453400@www.marathoncitywi.gov
SUMMARY:Utility Commission Meeting
DESCRIPTION:Virtually attend meeting via Microsoft Teams \nLink to Agenda \nJoin Teams Meeting:  https://www.microsoft.com/en-us/microsoft-teams/join-a-meeting \n \nMeeting ID: 261 174 214 35 \nPasscode: cY2jA33d
URL:https://www.marathoncitywi.gov/event/utility-commission-meeting-4/
LOCATION:Village Hall\, 311 Walnut Street\, Marathon City\, WI\, 54448\, United States
CATEGORIES:Meetings
ATTACH;FMTTYPE=image/png:https://www.marathoncitywi.gov/wp-content/uploads/2025/04/UTILITY-COMMISSION-MEETING.png
END:VEVENT
BEGIN:VEVENT
DTSTART;TZID=America/Los_Angeles:20250507T180000
DTEND;TZID=America/Los_Angeles:20250507T200000
DTSTAMP:20260422T070636
CREATED:20250505T165243Z
LAST-MODIFIED:20250505T165353Z
UID:10000399-1746640800-1746648000@www.marathoncitywi.gov
SUMMARY:Village Board Meeting
DESCRIPTION:Link to Agenda \nVirtually attend meeting via Microsoft Teams \nJoin Teams Meeting:  https://www.microsoft.com/en-us/microsoft-teams/join-a-meeting \n \nMeeting ID: 229 434 982 56 \nPasscode: 832Rn6k4
URL:https://www.marathoncitywi.gov/event/village-board-meeting-3/
LOCATION:Village Hall\, 311 Walnut Street\, Marathon City\, WI\, 54448\, United States
CATEGORIES:Meetings
ATTACH;FMTTYPE=image/png:https://www.marathoncitywi.gov/wp-content/uploads/2025/04/VILLAGE-BOARD-MEETING.png
END:VEVENT
BEGIN:VEVENT
DTSTART;TZID=America/Los_Angeles:20250507T180000
DTEND;TZID=America/Los_Angeles:20250507T200000
DTSTAMP:20260422T070636
CREATED:20241028T171439Z
LAST-MODIFIED:20250408T143537Z
UID:10001258-1746640800-1746648000@www.marathoncitywi.gov
SUMMARY:Village Board Meeting
DESCRIPTION:Virtually attend meeting via Microsoft Teams \nJoin Teams Meeting:  https://www.microsoft.com/en-us/microsoft-teams/join-a-meeting \n \nMeeting ID: 229 434 982 56 \nPasscode: 832Rn6k4
URL:https://www.marathoncitywi.gov/event/village-board-meeting/2025-05-07/
LOCATION:Village Hall\, 311 Walnut Street\, Marathon City\, WI\, 54448\, United States
CATEGORIES:Meetings
ATTACH;FMTTYPE=image/png:https://www.marathoncitywi.gov/wp-content/uploads/2025/04/VILLAGE-BOARD-MEETING.png
END:VEVENT
BEGIN:VEVENT
DTSTART;TZID=America/Los_Angeles:20250430T160000
DTEND;TZID=America/Los_Angeles:20250430T173000
DTSTAMP:20260422T070636
CREATED:20250428T153907Z
LAST-MODIFIED:20250428T153908Z
UID:10000458-1746028800-1746034200@www.marathoncitywi.gov
SUMMARY:Utility Commission Meeting
DESCRIPTION:Virtually attend meeting via Microsoft Teams \nLink to Agenda \nJoin Teams Meeting:  https://www.microsoft.com/en-us/microsoft-teams/join-a-meeting \n \nMeeting ID: 261 174 214 35 \nPasscode: cY2jA33d
URL:https://www.marathoncitywi.gov/event/utility-commission-meeting-3/
LOCATION:Village Hall\, 311 Walnut Street\, Marathon City\, WI\, 54448\, United States
CATEGORIES:Meetings
ATTACH;FMTTYPE=image/png:https://www.marathoncitywi.gov/wp-content/uploads/2025/04/UTILITY-COMMISSION-MEETING.png
END:VEVENT
BEGIN:VEVENT
DTSTART;TZID=America/Los_Angeles:20250402T180000
DTEND;TZID=America/Los_Angeles:20250402T200000
DTSTAMP:20260422T070636
CREATED:20241028T171439Z
LAST-MODIFIED:20250408T143537Z
UID:10000398-1743616800-1743624000@www.marathoncitywi.gov
SUMMARY:Village Board Meeting
DESCRIPTION:Virtually attend meeting via Microsoft Teams \nJoin Teams Meeting:  https://www.microsoft.com/en-us/microsoft-teams/join-a-meeting \n \nMeeting ID: 229 434 982 56 \nPasscode: 832Rn6k4
URL:https://www.marathoncitywi.gov/event/village-board-meeting/2025-04-02/
LOCATION:Village Hall\, 311 Walnut Street\, Marathon City\, WI\, 54448\, United States
CATEGORIES:Meetings
ATTACH;FMTTYPE=image/png:https://www.marathoncitywi.gov/wp-content/uploads/2025/04/VILLAGE-BOARD-MEETING.png
END:VEVENT
END:VCALENDAR