BEGIN:VCALENDAR
VERSION:2.0
PRODID:-//Village of Marathon City - ECPv6.15.20//NONSGML v1.0//EN
CALSCALE:GREGORIAN
METHOD:PUBLISH
X-WR-CALNAME:Village of Marathon City
X-ORIGINAL-URL:https://www.marathoncitywi.gov
X-WR-CALDESC:Events for Village of Marathon City
REFRESH-INTERVAL;VALUE=DURATION:PT1H
X-Robots-Tag:noindex
X-PUBLISHED-TTL:PT1H
BEGIN:VTIMEZONE
TZID:America/Chicago
BEGIN:DAYLIGHT
TZOFFSETFROM:-0600
TZOFFSETTO:-0500
TZNAME:CDT
DTSTART:20250309T080000
END:DAYLIGHT
BEGIN:STANDARD
TZOFFSETFROM:-0500
TZOFFSETTO:-0600
TZNAME:CST
DTSTART:20251102T070000
END:STANDARD
BEGIN:DAYLIGHT
TZOFFSETFROM:-0600
TZOFFSETTO:-0500
TZNAME:CDT
DTSTART:20260308T080000
END:DAYLIGHT
BEGIN:STANDARD
TZOFFSETFROM:-0500
TZOFFSETTO:-0600
TZNAME:CST
DTSTART:20261101T070000
END:STANDARD
BEGIN:DAYLIGHT
TZOFFSETFROM:-0600
TZOFFSETTO:-0500
TZNAME:CDT
DTSTART:20270314T080000
END:DAYLIGHT
BEGIN:STANDARD
TZOFFSETFROM:-0500
TZOFFSETTO:-0600
TZNAME:CST
DTSTART:20271107T070000
END:STANDARD
END:VTIMEZONE
BEGIN:VEVENT
DTSTART;TZID=America/Chicago:20260418T100000
DTEND;TZID=America/Chicago:20260418T140000
DTSTAMP:20260424T033953
CREATED:20260401T141621Z
LAST-MODIFIED:20260401T141621Z
UID:10001671-1776506400-1776520800@www.marathoncitywi.gov
SUMMARY:MFD Fundraiser Trap Shoot
DESCRIPTION:Public are welcome to Marathon Trap & Sportsmen Club (142122 County Highway N) to support the Marathon Fire Department. \nRaffle Baskets\, food and beverages available for purchase. \nPlease see attached flyer for all the details.
URL:https://www.marathoncitywi.gov/event/mfd-fundraiser-trap-shoot/
CATEGORIES:Events
ATTACH;FMTTYPE=image/png:https://www.marathoncitywi.gov/wp-content/uploads/2026/04/Designer-19.png
END:VEVENT
END:VCALENDAR